BEGIN:VCALENDAR
VERSION:2.0
PRODID:-//McCrorey Heights - ECPv6.15.20//NONSGML v1.0//EN
CALSCALE:GREGORIAN
METHOD:PUBLISH
X-WR-CALNAME:McCrorey Heights
X-ORIGINAL-URL:https://mccroreyheights.com
X-WR-CALDESC:Events for McCrorey Heights
REFRESH-INTERVAL;VALUE=DURATION:PT1H
X-Robots-Tag:noindex
X-PUBLISHED-TTL:PT1H
BEGIN:VTIMEZONE
TZID:UTC
BEGIN:STANDARD
TZOFFSETFROM:+0000
TZOFFSETTO:+0000
TZNAME:UTC
DTSTART:20230101T000000
END:STANDARD
END:VTIMEZONE
BEGIN:VEVENT
DTSTART;TZID=UTC:20251004T153000
DTEND;TZID=UTC:20251004T190000
DTSTAMP:20260423T150733
CREATED:20250910T003545Z
LAST-MODIFIED:20250910T013858Z
UID:830-1759591800-1759604400@mccroreyheights.com
SUMMARY:McCrorey Heights Homecoming 2025
DESCRIPTION:Join us for a heartwarming reunion of current and former McCrorey Heights residents!\n📅 Date: Saturday\, October 4\, 2025\n🕔 Time: 3:30 PM – 7:00 PM\n📍 Location: First Baptist West – 1801 Oaklawn \nEvent Highlights: \n🍽️ Dinner: Enjoy some good food\n🎵 Music: Dance to some oldies but goodies\n📚 Historical Trivia: Celebrate our neighborhood’s rich history\n🧩 Games: Engage in healthy and friendly competition\n💝 Share Your Story: Tell us about your love for the neighborhood \n🌟 This is your chance to reconnect with old friends\, make new ones\, and celebrate the vibrant spirit of McCrorey Heights! \nPlease RSVP by September 27\, 2025 \nSpread the word to all current and former McCrorey Heights residents. Let’s make this a homecoming to remember! \n  \nPlease enable JavaScript in your browser to complete this form.Please enable JavaScript in your browser to complete this form.Name *FirstLastAddressEmail *# of Adults# of ChildrenSubmit
URL:https://mccroreyheights.com/event/mccrorey-heights-homecoming-2025/
LOCATION:First Baptist Church-West\, 1801 Oaklawn Avenue\, Charlotte\, NC\, 28216\, United States
CATEGORIES:Social Gathering
ATTACH;FMTTYPE=image/png:https://mccroreyheights.com/wp-content/uploads/2025/09/MHA-Homecoming-2025-Flyer.png
ORGANIZER;CN="MH Neighborhood Association":MAILTO:leadershipteam@mccroreyheights.com
END:VEVENT
BEGIN:VEVENT
DTSTART;TZID=UTC:20250821T180000
DTEND;TZID=UTC:20250821T190000
DTSTAMP:20260423T150733
CREATED:20250812T141401Z
LAST-MODIFIED:20250812T141525Z
UID:811-1755799200-1755802800@mccroreyheights.com
SUMMARY:HDC Conversation (In-person)
DESCRIPTION:Join us for a neighborhood conversation with Charlotte Historic Preservation Program Manager Kristi Harpst\, Thursday\, August 21st from 6-7 pm! \nCurious about what it really means to live in a historic neighborhood? Wondering about those preservation rules you’ve heard about? This is your chance to get straight answers and separate fact from fiction. \n\n 
URL:https://mccroreyheights.com/event/hdc-conversation-in-person/
LOCATION:First Baptist Church-West\, 1801 Oaklawn Avenue\, Charlotte\, NC\, 28216\, United States
ATTACH;FMTTYPE=application/pdf:https://mccroreyheights.com/wp-content/uploads/2025/08/HDC-Conversation-in-person-1.pdf
ORGANIZER;CN="MH Neighborhood Association":MAILTO:leadershipteam@mccroreyheights.com
END:VEVENT
BEGIN:VEVENT
DTSTART;TZID=UTC:20250816T110000
DTEND;TZID=UTC:20250816T150000
DTSTAMP:20260423T150733
CREATED:20250812T151718Z
LAST-MODIFIED:20250812T151903Z
UID:818-1755342000-1755356400@mccroreyheights.com
SUMMARY:Friends & Family Fair
DESCRIPTION:Join First Baptist Church – West for their friends & family fair on Saturday\, August 16 from 11 am – 3 pm. \nThere will be free school supplies\, clothing\, games\, estate planning and so much more. \nFor more information and a schedule of activities\, visit www.fbcwest.org.
URL:https://mccroreyheights.com/event/friends-family-fair/
LOCATION:First Baptist Church-West\, 1801 Oaklawn Avenue\, Charlotte\, NC\, 28216\, United States
ATTACH;FMTTYPE=application/pdf:https://mccroreyheights.com/wp-content/uploads/2025/08/FBW-Flyer-front-page-1.pdf
END:VEVENT
BEGIN:VEVENT
DTSTART;TZID=UTC:20250814T140000
DTEND;TZID=UTC:20250814T150000
DTSTAMP:20260423T150733
CREATED:20250812T141226Z
LAST-MODIFIED:20250812T141653Z
UID:806-1755180000-1755183600@mccroreyheights.com
SUMMARY:HDC Conversation (Virtual)
DESCRIPTION:Join us for a neighborhood conversation with Charlotte Historic Preservation Program Manager Kristi Harpst\, Thursday\, August 12th from 2-3 pm! \nCurious about what it really means to live in a historic neighborhood? Wondering about those preservation rules you’ve heard about? This is your chance to get straight answers and separate fact from fiction. \nThis is a virtual meeting. Join by clicking the link below. \n\nhttps://zoom.us/j/92999053320?pwd=l2DPLDUWbe3IAglv7TGQYM2xST2kGA.1
URL:https://mccroreyheights.com/event/hdc-conversation-virtual/
LOCATION:NC
ATTACH;FMTTYPE=application/pdf:https://mccroreyheights.com/wp-content/uploads/2025/08/HDC-Conversation-virtual-2.pdf
ORGANIZER;CN="MH Neighborhood Association":MAILTO:leadershipteam@mccroreyheights.com
END:VEVENT
BEGIN:VEVENT
DTSTART;TZID=UTC:20250805T173000
DTEND;TZID=UTC:20250805T193000
DTSTAMP:20260423T150733
CREATED:20250725T233643Z
LAST-MODIFIED:20250725T233643Z
UID:797-1754415000-1754422200@mccroreyheights.com
SUMMARY:National Night Out
DESCRIPTION:Join us for National Night Out on Tuesday\, August 5th from 5:30-7:30 PM at First Baptist West Church! Come meet your neighbors\, enjoy great food\, and connect with our local police officers in a fun\, relaxed atmosphere. It’s a wonderful opportunity to strengthen our community bonds while the kids play and everyone enjoys good company. Bring your family and friends – we’d love to see you there! Let’s make our neighborhood an even better place to call home.
URL:https://mccroreyheights.com/event/national-night-out/
LOCATION:First Baptist Church-West\, 1801 Oaklawn Avenue\, Charlotte\, NC\, 28216\, United States
ATTACH;FMTTYPE=application/pdf:https://mccroreyheights.com/wp-content/uploads/2025/07/NNO-Postcard-2-1.pdf
ORGANIZER;CN="MH Neighborhood Association":MAILTO:leadershipteam@mccroreyheights.com
END:VEVENT
BEGIN:VEVENT
DTSTART;TZID=UTC:20240928T150000
DTEND;TZID=UTC:20240928T190000
DTSTAMP:20260423T150733
CREATED:20240905T191919Z
LAST-MODIFIED:20240905T191919Z
UID:758-1727535600-1727550000@mccroreyheights.com
SUMMARY:McCrorey Heights Homecoming
DESCRIPTION:Join us for a heartwarming reunion of current and former McCrorey Heights residents!\n📅 Date: Saturday\, September 28\, 2024\n🕔 Time: 3:00 PM – 7:00 PM\n📍 Location: First Baptist West – 1801 Oaklawn \nEvent Highlights: \n🍽️ Dinner: Enjoy some good food\n🎵 Music: Dance to some oldies but goodies\n📚 Historical Trivia: Celebrate our neighborhood’s rich history\n🧩 Games: Engage in healthy and friendly competition \n🌟 This is your chance to reconnect with old friends\, make new ones\, and celebrate the vibrant spirit of McCrorey Heights! \nPlease RSVP by September 20\, 2024 \nSpread the word to all current and former McCrorey Heights residents. Let’s make this a homecoming to remember! \n  \nPlease enable JavaScript in your browser to complete this form.Please enable JavaScript in your browser to complete this form.Name *FirstLastAddressEmail *# of Adults# of ChildrenSubmit
URL:https://mccroreyheights.com/event/homecoming/
LOCATION:First Baptist Church-West\, 1801 Oaklawn Avenue\, Charlotte\, NC\, 28216\, United States
CATEGORIES:Social Gathering
ATTACH;FMTTYPE=image/png:https://mccroreyheights.com/wp-content/uploads/2024/09/updated-homecoming.png
ORGANIZER;CN="MH Neighborhood Association":MAILTO:leadershipteam@mccroreyheights.com
END:VEVENT
BEGIN:VEVENT
DTSTART;TZID=UTC:20240629T183000
DTEND;TZID=UTC:20240629T213000
DTSTAMP:20260423T150733
CREATED:20240609T001909Z
LAST-MODIFIED:20240609T012810Z
UID:742-1719685800-1719696600@mccroreyheights.com
SUMMARY:Summer Movie Night
DESCRIPTION:Join Us for a Magical Summer Movie Night Under the Stars ✨ \nGet ready for our annual McCrorey Summer Movie Night. \n📅 Date: Saturday\, June 29\, 2024 \n🕖 Time: Dinner – 7:00 pm (Movie starts at dusk\, around 8:00 pm) \n📍 Location: First Baptist West – Upper Parking Lot \n🎥 This year’s feature: “The Longshots” – The true story of Jasmine Plummer who\, at the age of eleven\, became the first female to play in Pop Warner football tournament in its 56-year history \n🍿 Bring your favorite movie snacks or grab some pizza and snacks provided. \n🥳 It’a a perfect chance to meet new neighbors\, catch up with old friends\, and create lasting summer memories. \nPlease RSVP by June 22\, 2024. \nSpread the word and let’s make this the biggest turnout yet! \n  \n**For association members\, annual household dues of $50 grant complimentary admission to this event for household members. Please visit the membership page or contact us for more information on how to pay your dues. Non-member households are welcome to attend by contributing $15 per adult and $10 per child at the door. This guest fee can be paid through the same channels as membership dues. \nPlease enable JavaScript in your browser to complete this form.Please enable JavaScript in your browser to complete this form.Name *FirstLastAddressEmail *# of Adults# of ChildrenHave you paid your 2024 Neighborhood Dues *YesNoSubmit
URL:https://mccroreyheights.com/event/summermovienight/
LOCATION:First Baptist Church-West\, 1801 Oaklawn Avenue\, Charlotte\, NC\, 28216\, United States
CATEGORIES:Social Gathering
ATTACH;FMTTYPE=application/pdf:https://mccroreyheights.com/wp-content/uploads/2024/06/Summer-Movie-Night-1.pdf
ORGANIZER;CN="MH Neighborhood Association":MAILTO:leadershipteam@mccroreyheights.com
END:VEVENT
BEGIN:VEVENT
DTSTART;TZID=UTC:20240509T180000
DTEND;TZID=UTC:20240509T190000
DTSTAMP:20260423T150733
CREATED:20240302T210010Z
LAST-MODIFIED:20240302T210213Z
UID:609-1715277600-1715281200@mccroreyheights.com
SUMMARY:May Neighborhood Meeting
DESCRIPTION:
URL:https://mccroreyheights.com/event/may-neighborhood-meeting/
LOCATION:First Baptist Church-West\, 1801 Oaklawn Avenue\, Charlotte\, NC\, 28216\, United States
CATEGORIES:Monthly Meetings
ATTACH;FMTTYPE=image/png:https://mccroreyheights.com/wp-content/uploads/2024/03/Neighborhood-Meeting.png
END:VEVENT
BEGIN:VEVENT
DTSTART;TZID=UTC:20240420T180000
DTEND;TZID=UTC:20240420T210000
DTSTAMP:20260423T150733
CREATED:20240310T233138Z
LAST-MODIFIED:20240311T232252Z
UID:664-1713636000-1713646800@mccroreyheights.com
SUMMARY:Spring Festival
DESCRIPTION:You’re cordially invited to our inaugural Spring Festival\, a joyous celebration of renewal and new beginnings! Join us as we welcome the new season with music\, games\, delicious food\, and the wonderful company of neighbors and friends. \nThis festive gathering promises to be a delightful event you won’t want to miss. To help us plan accordingly\, please RSVP by April 13\, 2024. \nWe look forward to commemorating the start of spring together in a vibrant atmosphere of community and fun! \nFor association members\, annual household dues of $50 grant complimentary admission to this event for household members. Please visit the membership page or contact us for more information on how to pay your dues. Non-member households are welcome to attend by contributing $15 per adult and $10 per child at the door. This guest fee can be paid through the same channels as membership dues. \n  \nPlease enable JavaScript in your browser to complete this form.Please enable JavaScript in your browser to complete this form.Name *FirstLastAddressEmail *# of Adults# of ChildrenHave you paid your 2024 Neighborhood Dues *YesNoSubmit
URL:https://mccroreyheights.com/event/spring-festival/
LOCATION:First Baptist Church-West\, 1801 Oaklawn Avenue\, Charlotte\, NC\, 28216\, United States
CATEGORIES:Social Gathering
ATTACH;FMTTYPE=application/pdf:https://mccroreyheights.com/wp-content/uploads/2024/03/Spring-Festival-2.pdf
ORGANIZER;CN="MH Neighborhood Association":MAILTO:leadershipteam@mccroreyheights.com
END:VEVENT
BEGIN:VEVENT
DTSTART;TZID=UTC:20240411T180000
DTEND;TZID=UTC:20240411T190000
DTSTAMP:20260423T150733
CREATED:20240302T205847Z
LAST-MODIFIED:20240405T024134Z
UID:607-1712858400-1712862000@mccroreyheights.com
SUMMARY:April Neighborhood Meeting
DESCRIPTION:Join us for the April meeting where our neighbor\, Attorney Robyn Guinn\, will be a guest speaker discussing estate planning and how to protect your assets during every phase of life\, from diapers to dentures. \nAttorney Robyn Guinn is the managing attorney at Hicks-Guinn Law\, PLLC\, in Charlotte and is a resident of McCrorey Heights. She assists individuals and small business owners\, and enjoys counseling families and individuals in estate planning\, estate administration\, business succession planning\, and real estate matters.
URL:https://mccroreyheights.com/event/april-neighborhood-meeting/
LOCATION:First Baptist Church-West\, 1801 Oaklawn Avenue\, Charlotte\, NC\, 28216\, United States
ATTACH;FMTTYPE=image/png:https://mccroreyheights.com/wp-content/uploads/2024/03/Neighborhood-Meeting.png
END:VEVENT
BEGIN:VEVENT
DTSTART;TZID=UTC:20240409T193000
DTEND;TZID=UTC:20240409T210000
DTSTAMP:20260423T150733
CREATED:20240309T223105Z
LAST-MODIFIED:20240309T223105Z
UID:650-1712691000-1712696400@mccroreyheights.com
SUMMARY:GospelSHOUT!
DESCRIPTION:FREE gospel concert at United House of Prayer for All People. Enjoy a gospel choir with trombone praise bands and choirs.
URL:https://mccroreyheights.com/event/gospelshout/
LOCATION:United House of Prayer\, 2321 Beatties Ford Road\, Charlotte\, NC\, 28216\, United States
CATEGORIES:Community Event
ATTACH;FMTTYPE=image/png:https://mccroreyheights.com/wp-content/uploads/2024/03/GospelSHOUT-flyer-2024.png
ORGANIZER;CN="Charlotte Shout":MAILTO:tom@HistorySouth.org
END:VEVENT
BEGIN:VEVENT
DTSTART;TZID=UTC:20240321T170000
DTEND;TZID=UTC:20240321T190000
DTSTAMP:20260423T150733
CREATED:20240302T211440Z
LAST-MODIFIED:20240307T211941Z
UID:611-1711040400-1711047600@mccroreyheights.com
SUMMARY:JCSU LYCEUM Event
DESCRIPTION:Johnson C. Smith University continues its LYCEUM series by welcoming Nikole Hannah-Jones on March 21\, 2024 at 5:00 p.m. Nikole Hannah-Jones is a Pulitzer Prize-winning  journalist covering racial injustice and is the creator of the 1619 Project.  The event will be held in Gambrell Auditorium in Biddle Hall.
URL:https://mccroreyheights.com/event/jcsu-lyceum-event/
LOCATION:Johnson C. Smith University\, 100 Beatties Ford Road\, Charlotte\, NC\, 28216\, United States
CATEGORIES:Community Event
ATTACH;FMTTYPE=image/jpeg:https://mccroreyheights.com/wp-content/uploads/2024/03/JCSU-March-LYCEUM.jpg
END:VEVENT
BEGIN:VEVENT
DTSTART;TZID=UTC:20240314T180000
DTEND;TZID=UTC:20240314T190000
DTSTAMP:20260423T150733
CREATED:20240226T195516Z
LAST-MODIFIED:20240302T205429Z
UID:579-1710439200-1710442800@mccroreyheights.com
SUMMARY:March Neighborhood Meeting
DESCRIPTION:Join us for our March meeting where we will have Charles Osbourne as our guest. Charles is running for District 2 County Commissioner.
URL:https://mccroreyheights.com/event/march-neighborhood-meeting/
LOCATION:First Baptist Church-West\, 1801 Oaklawn Avenue\, Charlotte\, NC\, 28216\, United States
CATEGORIES:Monthly Meetings
ATTACH;FMTTYPE=image/png:https://mccroreyheights.com/wp-content/uploads/2024/03/Neighborhood-Meeting.png
END:VEVENT
BEGIN:VEVENT
DTSTART;TZID=UTC:20240229T180000
DTEND;TZID=UTC:20240229T193000
DTSTAMP:20260423T150733
CREATED:20240226T234247Z
LAST-MODIFIED:20240226T234247Z
UID:593-1709229600-1709235000@mccroreyheights.com
SUMMARY:The Charlotte Observer Community Conversation
DESCRIPTION:Join Sean Langley\, President of the MH Neighborhood Association\, Marilyn Twitty-Brown – longtime resident\, and Nichelle Bonaparte Hawkins – Historic District Commission Chair for a panel conversation on keeping the character or our communities.
URL:https://mccroreyheights.com/event/the-charlotte-observer-community-conversation/
LOCATION:First Baptist Church-West\, 1801 Oaklawn Avenue\, Charlotte\, NC\, 28216\, United States
CATEGORIES:Community Event
ATTACH;FMTTYPE=image/jpeg:https://mccroreyheights.com/wp-content/uploads/2024/02/image000000.jpg
END:VEVENT
END:VCALENDAR